Workbook

Sheet calcolo sanzioni
C2: CITTA’ di FABRIANO PROVINCIA DI ANCONA Servizio Edilizia Privata e Sisma SUE-SUAP (SUAPE) - Vigilanza Edilizia
C3: SANZIONI ART. 37, 36-bis e 34-ter D.P.R. 380/01 PROSPETTO CALCOLO DEL VALORE VENALE E DELLE SANZIONI Allegato alle linee di indirizzo su criteri e modalità di calcolo della sanzioni pecuniarie (calcolo in base alla L. 27 luglio 1978 n. 392 pubblicata sulla G.U. n. 211 del 29 luglio 1978) e L. 47/85
C4: Pratica Edilizia
C5: Soggetto richiedente
C6: Localizzazione
C7: Epoca delle realizzazione dell'abuso o delle difformità
C9: DETERMINAZIONE, CON MODALITA' DESCRITTA NELLA TABELLA ALLEGATA ALLA L. 47/85, DELLA SUPERFICIE NEL CASO TRATTASI DI ABUSI IN TERMINI DI VOLUMI
C10: VOLUME IN MC. | D10: SUPERFICIE REALE (V: 5 x 3) | G10: NOTE
C11: 0 | D11: =SUM(C11/5*3) -> 0
C12: 0 | D12: =SUM(C12/5*3) -> 0
C13: 0 | D13: =SUM(C13/5*3) -> 0
C15: DETERMINAZIONE AUMENTO DEL VALORE VENALE AVV = (VVA-VVP)
C16: DETERMINAZIONE EX POST (VVA) VVA=(VURxSCxCRxCA)
C17: DETERMINAZIONE VALORE UNITARIO DI RIFERIMENTO (VUR) VUR=Valore Valore di mercato medio (fonte O.M.I.)xCC
C19: DETERMINAZIONE DEL VALORIE DI MERCATO MEDIO (semestre di riferimento alla data di presentazione dell'istanza)
C20: FASCIA/ZONA | D20: MICROZONA | E20: CATEGORIA CATASTALE | F20: TIPOLOGIA | G20: VALORE COMPRAVENDITA | I20: VALORE DI VALORE MEDIO €/mq. (2)
C21: (Rif. O.M.I.) | D21: (Rif. O.M.I.) | E21: (N.C.E.U.) | F21: (Rif. O.M.I.) | G21: (Rif. O.M.I.)
G22: Valore minimo | H22: Valore massimo | I22: =SUM(G23+H23)/2 -> 0
C24: DETERMINAZIONE COEFFICIENTI CORRETTIVI (CC) CC=(CD coefficente per demografia ComunexCU coefficente per ubicazionexCP coefficiente di pianoxCM coefficiente di manutenionexCV coefficiente di vetustà)
C25: Coefficienti correttivi | D25: coeff. | E25: coefficiente da applicare
C26: CD coefficente per demografia Comune | D26: 0,90 | E26: 0
C27: CU coefficente per ubicazione
C28: Centro storico | D28: 1,10 | E28: 0
C29: Centro edificato | D29: 1,00
C30: Aree di espansione | D30: 0,79
C31: Agricole (Ea) | D31: 0,85
C32: CP coefficiente di piano per U.I. situate al piano
C33: seminterrato | D33: 0,80 | E33: 0 | G33: CV - calcolo coefficiente di vetustà
C34: Terreno | D34: 0,90 | G34: ANNO DI COSTRUZIONE | H34: ANNO DI RIFERIMENTO PERIZIA
C35: Intermedio e ultimo | D35: 1,00 | G35: 1900 | H35: 1900
C36: Attico | D36: 1,20 | G36: ANNI DI VETUSTA' | H36: percentuale fino al 21° anno | I36: percentuale per gli ulteriori 30 anni | J36: valore coefficiente di vetustà
C37: CM coefficiente di manutenione stato | G37: =H35-G35 -> 0 | H37: =_xlfn.IFS(G37>=21,(21-6)*1,(G37>=6)*(G37<=21),(G37-6)*1,G37<=6,"0,00") -> 0,00 | I37: =_xlfn.IFS(G37<=21,0,(G37>21)*(G37<=51),(G37-21)*0.5,G37>51,(51-21)*0.5) -> 0 | J37: =100-(H37+I37) -> 100
C38: Normale | D38: 0,80 | E38: 0
C39: Mediocre | D39: 0,90
C40: Scadente | D40: 1,00
C41: CV coefficiente di vetustà
C42: dal 7° anno al al 21° (1%) | D42: 0,10* | E42: =J37/100 -> 1
C43: per gli ulteriori 30 anni (0,5%) | D43: 0,05*
C44: VALORE UNITARIO DI RIFERIMENTO (VUR)
C45: VALORE DI MERCATO MEDIO | D45: CC COEFFICIENTI CORRETTIVI | E45: VALORE UNITARIO DI RIFERIMENTO
...

Sheet scelta condizioni
B2: SCELTA CONDIZIONI SANATORIA
B3: SANZIONE Art. 37 C. 1 d.P.R. 380/01
B4: SANZIONE Art. 37 C. 2 d.P.R. 380/01
B5: Sanzioni art. 36-bis c. 5 lett.b) da € 1.032,00 a € 10.328,00 (in assenza di scia o in difformità da essa)
B6: Sanzioni art. 36-bis c. 5 lett.b) da € 516,00 a € 5.164,00 (verifica doppia conformità piena)
