Workbook

Sheet calcolo sanzioni
C2: CITTA’ di FABRIANO PROVINCIA DI ANCONA Servizio Edilizia Privata e Sisma SUE-SUAP (SUAPE) - Vigilanza Edilizia
C3: SANZIONI ART. 37, 36-bis e 34-ter D.P.R. 380/01 PROSPETTO CALCOLO DEL VALORE VENALE E DELLE SANZIONI Allegato alle linee di indirizzo su criteri e modalità di calcolo della sanzioni pecuniarie (calcolo in base alla L. 27 luglio 1978 n. 392 pubblicata sulla G.U. n. 211 del 29 luglio 1978) e L. 47/85
C4: Pratica Edilizia
C5: Soggetto richiedente
C6: Localizzazione
C7: Epoca delle realizzazione dell'abuso o delle difformità
C9: DETERMINAZIONE, CON MODALITA' DESCRITTA NELLA TABELLA ALLEGATA ALLA L. 47/85, DELLA SUPERFICIE NEL CASO TRATTASI DI ABUSI IN TERMINI DI VOLUMI
C10: VOLUME IN MC. | D10: SUPERFICIE REALE (V: 5 x 3) | G10: NOTE
C11: 0 | D11: =SUM(C11/5*3) -> 0
C12: 0 | D12: =SUM(C12/5*3) -> 0
C13: 0 | D13: =SUM(C13/5*3) -> 0
C15: DETERMINAZIONE AUMENTO DEL VALORE VENALE AVV = (VVA-VVP)
C16: DETERMINAZIONE EX POST (VVA) VVA=(VURxSCxCRxCA)
C17: DETERMINAZIONE VALORE UNITARIO DI RIFERIMENTO (VUR) VUR=Valore Valore di mercato medio (fonte O.M.I.)xCC
C19: DETERMINAZIONE DEL VALORIE DI MERCATO MEDIO (semestre di riferimento alla data di presentazione dell'istanza)
C20: FASCIA/ZONA | D20: MICROZONA | E20: CATEGORIA CATASTALE | F20: TIPOLOGIA | G20: VALORE COMPRAVENDITA | I20: VALORE DI VALORE MEDIO €/mq. (2)
C21: (Rif. O.M.I.) | D21: (Rif. O.M.I.) | E21: (N.C.E.U.) | F21: (Rif. O.M.I.) | G21: (Rif. O.M.I.)
G22: Valore minimo | H22: Valore massimo | I22: =SUM(G23+H23)/2 -> 0
C24: DETERMINAZIONE COEFFICIENTI CORRETTIVI (CC) CC=(CD coefficente per demografia ComunexCU coefficente per ubicazionexCP coefficiente di pianoxCM coefficiente di manutenionexCV coefficiente di vetustà)
C25: Coefficienti correttivi | D25: coeff. | E25: coefficiente da applicare
C26: CD coefficente per demografia Comune | D26: 0,90 | E26: 0
C27: CU coefficente per ubicazione
C28: Centro storico | D28: 1,10 | E28: 0
C29: Centro edificato | D29: 1,00
C30: Aree di espansione | D30: 0,79
C31: Agricole (Ea) | D31: 0,85
C32: CP coefficiente di piano per U.I. situate al piano
C33: seminterrato | D33: 0,80 | E33: 0 | G33: CV - calcolo coefficiente di vetustà
C34: Terreno | D34: 0,90 | G34: ANNO DI COSTRUZIONE | H34: ANNO DI RIFERIMENTO PERIZIA
C35: Intermedio e ultimo | D35: 1,00 | G35: 1900 | H35: 1900
C36: Attico | D36: 1,20 | G36: ANNI DI VETUSTA' | H36: percentuale fino al 21° anno | I36: percentuale per gli ulteriori 30 anni | J36: valore coefficiente di vetustà
C37: CM coefficiente di manutenione stato | G37: =H35-G35 -> 0 | H37: =_xlfn.IFS(G37>=21,(21-6)*1,(G37>=6)*(G37<=21),(G37-6)*1,G37<=6,"0,00") -> 0,00 | I37: =_xlfn.IFS(G37<=21,0,(G37>21)*(G37<=51),(G37-21)*0.5,G37>51,(51-21)*0.5) -> 0 | J37: =100-(H37+I37) -> 100
C38: Normale | D38: 0,80 | E38: 0
C39: Mediocre | D39: 0,90
C40: Scadente | D40: 1,00
C41: CV coefficiente di vetustà
C42: dal 7° anno al al 21° (1%) | D42: 0,10* | E42: =J37/100 -> 1
C43: per gli ulteriori 30 anni (0,5%) | D43: 0,05*
C44: VALORE UNITARIO DI RIFERIMENTO (VUR)
C45: VALORE DI MERCATO MEDIO | D45: CC COEFFICIENTI CORRETTIVI | E45: VALORE UNITARIO DI RIFERIMENTO
C46: =SUM(I22) -> 0 | D46: =E26*E28*E33*E38*E42 -> 0 | E46: =SUM(C46*D46) -> 0
C47: DETERMINAZIONE DELLA SUPERFICIE CONVENZIONALE (SC) (somma delle superfici coperte calpestabili comprensive delle quote delle superfici occupate dai muri interni e perimetrali)
C48: DESCRIZIONE IMMOBILE | F48: SUPERFICIE REALE | G48: 30% PER VANI CON H. INF 1,70 | I48: SUPERFICIE DA CONSIDEARE | J48: COEFF. | K48: SUPERFICIE CONVENZIONALE
G49: Sup. vano totale | H49: sup. abbatttuta del 30%
C50: Unità superiore a mq. 70 | F50: 0 | G50: 0 | H50: 0 | I50: =SUM(F50+H50) -> 0 | J50: 1 | K50: =I50*J50 -> 0
C51: Unità tra mq. 46 e mq. 70 (*) | D51: > 95 <= 110 | F51: 0 | G51: 0 | H51: =SUM(G51*0.7) -> 0 | I51: =SUM(F51+H51) -> 0 | J51: 1.1 | K51: =I51*J51 -> 0
C52: Unità inferiore a mq. 46 (*) | D52: > 110 <=130 | F52: 0 | G52: 0 | H52: =SUM(G52*0.7) -> 0 | I52: =F52+H52 -> 0 | J52: 1.2 | K52: =I52*J52 -> 0
C53: Autorimesse singole | D53: > 110 <=130 | F53: 0 | G53: 0 | H53: =SUM(G53*0.7) -> 0 | I53: =SUM(F53+H53) -> 0 | J53: 0.5 | K53: =I53*J53 -> 0
C54: Posto macchina in comune | D54: > 110 <=130 | F54: 0 | G54: 0 | H54: =SUM(G54*0.7) -> 0 | I54: =SUM(F54+H54) -> 0 | J54: 0.2 | K54: =I54*J54 -> 0
C55: Balconi, terrazze, cantine e simili (loc. sottot. non abitabili) | D55: > 110 <=130 | F55: 0 | G55: 0 | H55: =SUM(G55*0.7) -> 0 | I55: =SUM(F55) -> 0 | J55: 0.25 | K55: =I55*J55 -> 0
C56: Superfici scoperte in godimento esclusivo (°) | D56: > 110 <=130 | F56: 0 | I56: =F56 -> 0 | J56: 0.15 | K56: =I56*J56 -> 0
C57: Superfici a verde in condominio (quota millesim.) | D57: > 160 | F57: 0 | I57: =F57 -> 0 | J57: 0.1 | K57: =I57*J57 -> 0
C58: (*) inserire nel computo per una superficie non eccedente a quella dell'immobile principale a cui è riferito | H58: Totale Superficie Convenzionale mq. (1) | K58: =SUM(K50:L57) -> 0
C59: COEFFICIENTE DI RETTIFICA (CR)
C60: Coefficienti correttivi in % per tipologia di intervento | D60: coeff. | E60: coefficiente da applicare
C61: Nuova costruzione | D61: 0,10 | E61: 0
C62: Ristrutturazione urbanistica | D62: 0,10
C63: Sostituzione edilizia | D63: 0,20
C64: Ristrutturazione edilizia comprendente la demolizione e fedele ricostruzione (intendendo per fedele ricostruzione quella realizzata con gli stessi materiali o con materiali analoghi prescritti dal regolamento edilizio, nonché nella stessa collocazione e con lo stesso ingombro planivolumetrico, fatte salve esclusivamente le innovazioni necessarie per l’adeguamento alla normativa antisismica) | D64: 0,40
C65: Ristrutturazione edilizia con esclusione della demolizione con fedele ricostruzione ma comprendente la realizzazione di addizioni funzionali di nuovi elementi agli organismi esistenti | D65: 0,50
C66: Ristrutturazione edilizia consistente nella demolizione di volumi secondari, facenti parte di un medesimo organismo edilizio, con loro ricostruzione nella stessa quantità, o in quantità inferiore ancorché in diversa collocazione sul lotto di pertinenza | D66: 0,60
C67: Ristrutturazione edilizia con esclusione della demolizione con fedele ricostruzione e della realizzazione di addizioni funzionali di nuovi elementi agli organismi esistenti | D67: 0,80
C68: Restauro e risanamento conservativo | D68: 0,90
C69: Manutenzione straordinaria | D69: 0,95
C70: Al cambio di destinazione d’uso di unità immobiliari o parte di essa con o senza opere | D70: 0,70
C71: COEFFICIENTE DI ABBATTIMENTO (CA)
C72: Coefficienti di abbattimento epoca di realizzazione | D72: coeff. | E72: coefficiente da applicare
C73: Post 1985 | D73: 1,00 | E73: 0
C74: Ante 1985 | D74: 1,05
C75: Ante 1967 | D75: 1,10
C76: DETERMINAZIONE EX POST (VVA) VVA=(VURxSCxCRxCA)
D77: VUR | E77: SC | F77: CR | G77: CA | H77: VVA
D78: =SUM(E46) -> 0 | E78: =SUM(K58) -> 0 | F78: =SUM(E61) -> 0 | G78: =SUM(E73) -> 0 | H78: =SUM(D78*E78*F78*G78) -> 0
C80: DETERMINAZIONE EX ANTE (VVP) VVP=(VURxSC)
C81: DETERMINAZIONE VALORE UNITARIO DI RIFERIMENTO (VUR) VUR=Valore Valore di mercato medio (fonte O.M.I.)xCC
C83: DETERMINAZIONE DEL VALORIE DI MERCATO MEDIO (semestre di riferimento alla data di perfezionamento dell'istanza)
C84: FASCIA/ZONA(Rif. O.M.I.) | D84: MICROZONA | E84: CATEGORIA CATASTALE | F84: TIPOLOGIA | G84: VALORE COMPRAVENDITA | I84: VALORE DI VALORE MEDIO €/mq. (2)
C85: (Rif. O.M.I.) | D85: (Rif. O.M.I.) | E85: (N.C.E.U.) | F85: (Rif. O.M.I.) | G85: (Rif. O.M.I.)
G86: Valore minimo | H86: Valore massimo | I86: =SUM(G87+H87)/2 -> 0
C88: DETERMINAZIONE COEFFICIENTI CORRETTIVI (CC) CC=(CD coefficente per demografia ComunexCU coefficente per ubicazionexCP coefficiente di pianoxCM coefficiente di manutenionexCV coefficiente di vetustà)
C89: Coefficienti correttivi | D89: coeff. | E89: coefficiente da applicare
C90: CD coefficente per demografia Comune | D90: 0,90 | E90: 0
C91: CU coefficente per ubicazione
C92: Centro storico | D92: 1,10 | E92: 0
C93: Centro edificato | D93: 1,00
C94: Aree di espansione | D94: 0,79
C95: Agricole (Ea) | D95: 0,85
C96: CP coefficiente di piano per U.I. situate al piano
C97: seminterrato | D97: 0,80 | E97: 0
C98: Terreno | D98: 0,90 | G98: CV - calcolo coefficiente di vetustà
C99: Intermedio e ultimo | D99: 1,00 | G99: ANNO DI COSTRUZIONE | H99: ANNO DI RIFERIMENTO PERIZIA
C100: Attico | D100: 1,20 | G100: 1900 | H100: 1900
C101: CM coefficiente di manutenione stato | G101: ANNI DI VETUSTA' | H101: percentuale fino al 21° anno | I101: percentuale per gli ulteriori 30 anni | J101: valore coefficiente di vetustà
C102: Normale | D102: 0,80 | E102: 0 | G102: =H100-G100 -> 0 | H102: =_xlfn.IFS(G102>=21,(21-6)*1,(G102>=6)*(G102<=21),(G102-6)*1,G102<=6,"0,00") -> 0,00 | I102: =_xlfn.IFS(G102<=21,0,(G102>21)*(G102<=51),(G102-21)*0.5,(G102>=52),(51-21)*0.5) -> 0 | J102: =100-(H102+I102) -> 100
C103: Mediocre | D103: 0,90
C104: Scadente | D104: 1,00
C105: CV coefficiente di vetustà
C107: dal 7° anno al al 21° (1% anno) | D107: 0,10* | E107: =J102/100 -> 1
C108: per gli ulteriori 30 anni (0,5% anno) | D108: 0,05*
C109: VALORE UNITARIO DI RIFERIMENTO (VUR)
...

Sheet scelta condizioni
B2: SCELTA CONDIZIONI SANATORIA
B3: SANZIONE Art. 37 C. 1 d.P.R. 380/01
B4: SANZIONE Art. 37 C. 2 d.P.R. 380/01
B5: Sanzioni art. 36-bis c. 5 lett.b) da € 1.032,00 a € 10.328,00 (in assenza di scia o in difformità da essa)
B6: Sanzioni art. 36-bis c. 5 lett.b) da € 516,00 a € 5.164,00 (verifica doppia conformità piena)
